BEGIN:VCALENDAR
PRODID:-//kirchenweb.ch gmbh//veranstaltungsausgabe v2.0//DE
VERSION:2.0
METHOD:PUBLISH
BEGIN:VEVENT
DTSTART:20241224T210000Z
DTEND:20241224T220000Z
LOCATION:Kirche Löhningen\, Kloster 3\, 8224 Löhningen
TRANSP:OPAQUE
SEQUENCE:0
UID:154522-veranstaltung@ref-sh.ch
DTSTAMP:20251224T215239Z
DESCRIPTION:Christnachtfeier über «Die Anbetung der Hirten» am
  Portinari-Triptychon; mit Pfarrer Lukas Huber.\n\n\nKontakt: Pfarrer
  Lukas Huber\n\nWeitere Infos: https://www.ref-sh.ch/veranstaltung/154522
SUMMARY:Christnachtfeier
PRIORITY:5
X-MICROSOFT-CDO-IMPORTANCE:1
CLASS:PUBLIC
END:VEVENT
END:VCALENDAR
