BEGIN:VCALENDAR
PRODID:-//kirchenweb.ch gmbh//veranstaltungsausgabe v2.0//DE
VERSION:2.0
METHOD:PUBLISH
BEGIN:VEVENT
DTSTART:20241215T084500Z
DTEND:20241215T094500Z
LOCATION:Kirche Löhningen\, Kloster 3\, 8224 Löhningen
TRANSP:OPAQUE
SEQUENCE:0
UID:154513-veranstaltung@ref-sh.ch
DTSTAMP:20241215T142207Z
DESCRIPTION:Gottesdienst mit dem https://www.ref-sh.ch/beringen-kchor und
  Pfarrer Lukas Huber.\n\nDie Kirchgemeinde Schleitheim ist auch eingeladen
  zu diesem Gottesdienst.\n\n\nKontakt: Pfarrer Lukas Huber\n\nWeitere
  Infos: https://www.ref-sh.ch/veranstaltung/154513
SUMMARY:Gottesdienst mit Kirchenchor Beringen
PRIORITY:5
X-MICROSOFT-CDO-IMPORTANCE:1
CLASS:PUBLIC
END:VEVENT
END:VCALENDAR
