BEGIN:VCALENDAR
PRODID:-//kirchenweb.ch gmbh//veranstaltungsausgabe v2.0//DE
VERSION:2.0
METHOD:PUBLISH
BEGIN:VEVENT
DTSTART:20241201T093500Z
DTEND:20241201T103500Z
LOCATION:Mesmerhuus\, Kloster 14\, 8224 Löhningen
TRANSP:OPAQUE
SEQUENCE:0
UID:154512-veranstaltung@ref-sh.ch
DTSTAMP:20241203T084544Z
DESCRIPTION:Der Gottesdienst zum 1. Advent war in der «Blume» Löhningen
  geplant\, aber dort gab es einen Gebäudeschaden. Darum findet der
  Gottesdienst im Mesmerhuus statt.\n\nGottesdienst-Beginn 10.35 Uhr (damit
  pünktlich kommende Menschen von der Blume zum Mesmerhuus spazieren
  können).\n\nZu Mittag essen kann man in der Trotte.\n\nKontakt: Pfarrer
  Lukas Huber\n\nWeitere Infos: https://www.ref-sh.ch/veranstaltung/154512
SUMMARY:Gottesdienst mit Chläggi-Jam
PRIORITY:5
X-MICROSOFT-CDO-IMPORTANCE:1
CLASS:PUBLIC
END:VEVENT
END:VCALENDAR
