BEGIN:VCALENDAR
PRODID:-//kirchenweb.ch gmbh//veranstaltungsausgabe v2.0//DE
VERSION:2.0
METHOD:PUBLISH
BEGIN:VEVENT
DTSTART:20241013T074500Z
DTEND:20241013T084500Z
LOCATION:Kirche Löhningen\, Kloster 3\, 8224 Löhningen
TRANSP:OPAQUE
SEQUENCE:0
UID:154504-veranstaltung@ref-sh.ch
DTSTAMP:20241013T090701Z
DESCRIPTION:Gottesdienst in der Kirche Löhningen.\n\nKontakt: Pfarrer
  Lukas Huber\n\nWeitere Infos: https://www.ref-sh.ch/veranstaltung/154504
SUMMARY:Regio-Gottesdienst in Löhningen
PRIORITY:5
X-MICROSOFT-CDO-IMPORTANCE:1
CLASS:PUBLIC
END:VEVENT
END:VCALENDAR
