BEGIN:VCALENDAR
PRODID:-//kirchenweb.ch gmbh//veranstaltungsausgabe v2.0//DE
VERSION:2.0
METHOD:PUBLISH
BEGIN:VEVENT
DTSTART:20240929T080000Z
DTEND:20240929T090000Z
LOCATION:Trotte Löhningen\, Schulgasse 21\, 8224 Löhningen
TRANSP:OPAQUE
SEQUENCE:0
UID:154502-veranstaltung@ref-sh.ch
DTSTAMP:20241019T095123Z
DESCRIPTION:Der Trottenfest-Gottesdienst wird draussen\, vor der Trotte\,
  stattfinden. Bitte beachten Sie: Es wird ziemlich kühl sein.\n
 \nFamiliengottesdienst zum Trottenfest Löhningen vor der Trotte\,
  vorbereitet vom ökumenischen Trottenfestgottesdienst-Team und Pfarrer
  Lukas P. Huber. Thema: das Trottenfest-Motto LokalGlobal. Während der
  Predigt gibt es für die Kinder die Möglichkeit\, mit dem Team etwas zu
  basteln.\n\nTeam: Irene Walter\, Lisi Spörndli und Andrea Straub.\n\nDer
  Gottesdienst findet bei schönem Wetter vor der
  https://map.search.ch/d/mrlyzy0zt statt.\n\nBei Regen findet der
  Gottesdienst in der
  https://map.search.ch/Löhningen\,Kloster-14@683630\,283758 statt. Bei
  unsicherer Witterung gibt das Kirchen-Informationtelefon am Sonntagmorgen
  Auskunft: 052 508 02 96.\n\n\nKontakt: Pfarrer Lukas Huber\n\nWeitere
  Infos: https://www.ref-sh.ch/veranstaltung/154502
SUMMARY:Familiengottesdienst zum Trottenfest
PRIORITY:5
X-MICROSOFT-CDO-IMPORTANCE:1
CLASS:PUBLIC
END:VEVENT
END:VCALENDAR
