BEGIN:VCALENDAR
PRODID:-//kirchenweb.ch gmbh//veranstaltungsausgabe v2.0//DE
VERSION:2.0
METHOD:PUBLISH
BEGIN:VEVENT
DTSTART:20240825T074500Z
DTEND:20240825T084500Z
LOCATION:Kirche Löhningen\, Kloster 3\, 8224 Löhningen
TRANSP:OPAQUE
SEQUENCE:0
UID:154498-veranstaltung@ref-sh.ch
DTSTAMP:20240903T081746Z
DESCRIPTION:Der Allianz-Gottesdienst findet wetterbedingt in der Kirche
  statt.\n\nAllianz-Familiengottesdienst\, ursprünglich geplant auf dem
  Schulplatz Guntmadingen. Zoey Spörndli (Löhningen) und Enya Meister
  (Merishausen) werden getauft\n\nEs feiern die Evang.-ref. Kirchgemeinde
  Beringen und Löhningen–Guntmadingen zusammen mit der Evangelischen
  Freikirche Chrischona Beringen\, mit Pfarrer Lukas Huber\, Milena
  Šelemba (Chrischona Beringen)\, mit Pfarrerin Jutta Schenk (ref.
  Kirchgemeinde Beringen) sowie der Musikgesellschaft Löhningen.
  Kinderprogramm und Chindehüeti; anschliessend Aperitif.\n\nDer
  Gottesdienst sollte https://map.search.ch/Guntmadingen\,Neuengasse-1
  stattfinden.\n\nBei ungünstigem Wetter findet der Gottesdienst in der
  Kirche Löhningen statt. Das Informationstelefon der Kirchgemeinde gibt
  bei zweifelhafter Witterung ab 8.00 Uhr Auskunft (052 508 02 96).\n
 \nKontakt: Pfarrer Lukas Huber\n\nWeitere Infos:
  https://www.ref-sh.ch/veranstaltung/154498
SUMMARY:Allianz-Taufgottesdienst
PRIORITY:5
X-MICROSOFT-CDO-IMPORTANCE:1
CLASS:PUBLIC
END:VEVENT
END:VCALENDAR
