BEGIN:VCALENDAR
PRODID:-//kirchenweb.ch gmbh//veranstaltungsausgabe v2.0//DE
VERSION:2.0
METHOD:PUBLISH
BEGIN:VEVENT
DTSTART:20240811T083000Z
DTEND:20240811T093000Z
LOCATION:Pfarrgarten Löhningen\, Kloster 3\, 8224 Löhningen
TRANSP:OPAQUE
SEQUENCE:0
UID:154496-veranstaltung@ref-sh.ch
DTSTAMP:20240817T122527Z
DESCRIPTION:Ökumenischer Familiengottesdienst zum Schulbeginn
  (Begrüssungsgottesdienst für Kinder des 3.- und 5.-Klass-Unterrichts)
  mit Team\, Katechetin Anita Bischof und Pfarrer Lukas P. Huber; bei
  schönem Wetter im Pfarrgarten\, bei ungünstiger Witterung in der
  Kirche.\n\nDer Römisch-katholische Pastoralraum Neuhausen-Hallau feiert
  mit.\n\nWährend des Gottesdienst gibt es für Kinder die Möglichkeit\,
  sich für das Schuljahr segnen zu lassen.\n\nAnschliessend Aperitif\,
  Neuzuzügerinnen-/Neuzuzüger-Begrüssung und Gelegenheit zum Griliieren
  im https://map.search.ch/Löhningen\,Kloster-3@683658\,283762.\n\nBei
  Regen findet der Gottesdienst in der
  https://map.search.ch/Löhningen\,Kloster-14@683630\,283758 statt. Bei
  unsicherer Witterung gibt das Kirchen-Informationtelefon am Sonntagmorgen
  Auskunft: 052 508 02 96\n\n\nKontakt: Pfarrer Lukas Huber\n\nWeitere
  Infos: https://www.ref-sh.ch/veranstaltung/154496
SUMMARY:Ökumenischer Familiengottesdienst zum Schulbeginn
PRIORITY:5
X-MICROSOFT-CDO-IMPORTANCE:1
CLASS:PUBLIC
END:VEVENT
END:VCALENDAR
