BEGIN:VCALENDAR
PRODID:-//kirchenweb.ch gmbh//veranstaltungsausgabe v2.0//DE
VERSION:2.0
METHOD:PUBLISH
BEGIN:VEVENT
DTSTART:20240714T074500Z
DTEND:20240714T084500Z
LOCATION:Kirche Löhningen\, Kloster 3\, 8224 Löhningen
TRANSP:OPAQUE
SEQUENCE:0
UID:154494-veranstaltung@ref-sh.ch
DTSTAMP:20240714T091557Z
DESCRIPTION:Gottesdienst in der Kirche Löhningen.\n\nDie Kirchgemeinde
  Beringen ist auch eingeladen in diesen Gottesdienst.\n\nKontakt: Pfarrer
  Lukas Huber\n\nWeitere Infos: https://www.ref-sh.ch/veranstaltung/154494
SUMMARY:Regio-Gottesdienst in Löhningen
PRIORITY:5
X-MICROSOFT-CDO-IMPORTANCE:1
CLASS:PUBLIC
END:VEVENT
END:VCALENDAR
