BEGIN:VCALENDAR
PRODID:-//kirchenweb.ch gmbh//veranstaltungsausgabe v2.0//DE
VERSION:2.0
METHOD:PUBLISH
BEGIN:VEVENT
DTSTART:20231111T120000Z
DTEND:20231111T160000Z
LOCATION:Gächlingen-Löhningen-Oberhallau\, Im Chloster 1\, 8214
  Gächlingen
TRANSP:OPAQUE
SEQUENCE:0
UID:154195-veranstaltung@ref-sh.ch
DTSTAMP:20230814T153009Z
DESCRIPTION:Auch an diesem Datum wird wieder Ameisli stattfinden.\n
 \nGenauere Infos zum Ort werden noch folgen.\n\nKontakt: \nAnja Ryser\n
 \nWeitere Infos: https://www.ref-sh.ch/veranstaltung/154195
SUMMARY:Ameisli
PRIORITY:5
X-MICROSOFT-CDO-IMPORTANCE:1
CLASS:PUBLIC
END:VEVENT
END:VCALENDAR
