BEGIN:VCALENDAR
PRODID:-//kirchenweb.ch gmbh//veranstaltungsausgabe v2.0//DE
VERSION:2.0
METHOD:PUBLISH
BEGIN:VEVENT
DTSTART:20240120T123000Z
DTEND:20240120T160000Z
LOCATION:Gächlingen-Löhningen-Oberhallau\, Im Chloster 1\, 8214
  Gächlingen
TRANSP:OPAQUE
SEQUENCE:0
UID:154194-veranstaltung@ref-sh.ch
DTSTAMP:20240119T140758Z
DESCRIPTION:Am Samstag\, 20. Januar\, ist wieder Ameisli! Wir werden einen
  tollen Nachmittag draussen verbringen und die Geschichte hören\, wie
  Daniel in der Löwengrube ist. Also pack deine Sachen und komm!\n
 \nMitnehmen:\nLöhnigen: Busgeld für Tageskarte Löhningen-Gächlingen
 \nAlle: Dem Wetter entsprechende Kleidung (wir sind den ganzen Nachmittag
  draussen)\, Trinkflasche\, Sackmesser\n\nStart:\nGächlingen: 13.45 Uhr\,
  Pfarrhaus\nLöhningen: 13.30 Uhr\, Bushaltestelle beim Brunnen
 \nOH/Gmd/Nk: nach Absprache\n\nEnde:\nLöhningen: 17.20 Uhr\,
  Bushaltestelle beim Brunnen\nGächlingen: 17.00 Uhr Pfarrhaus\nOH\, Gmd\,
  NK: Nach Absprache\n\nKontakt:\nFlorian B. Huber\n076 823 07 61
 \nflorian.huber@ref-sh.ch\n\n\nKontakt: Florian Huber\n\n\nWeitere Infos:
  https://www.ref-sh.ch/veranstaltung/154194
SUMMARY:Ameisli
PRIORITY:5
X-MICROSOFT-CDO-IMPORTANCE:1
CLASS:PUBLIC
END:VEVENT
END:VCALENDAR
