BEGIN:VCALENDAR
PRODID:-//kirchenweb.ch gmbh//veranstaltungsausgabe v2.0//DE
VERSION:2.0
METHOD:PUBLISH
BEGIN:VEVENT
DTSTART:20231216T140000Z
DTEND:20231216T180000Z
LOCATION:folgt\, \,
TRANSP:OPAQUE
SEQUENCE:0
UID:154191-veranstaltung@ref-sh.ch
DTSTAMP:20231109T194005Z
DESCRIPTION:WIr verbringen einen gemeinsamen Nachmittag mit der Jungschar
  und dem TC! Genauere Infos folgen.\n
 \nhttps://www.ref-sh.ch/_kirchenweb/?v=154191\n\nKontakt: Hanna
  Gfeller-Niklaus\n\nWeitere Infos:
  https://www.ref-sh.ch/veranstaltung/154191
SUMMARY:Waldweihnacht Ameisli und Jungschi
PRIORITY:5
X-MICROSOFT-CDO-IMPORTANCE:1
CLASS:PUBLIC
END:VEVENT
END:VCALENDAR
