BEGIN:VCALENDAR
PRODID:-//kirchenweb.ch gmbh//veranstaltungsausgabe v2.0//DE
VERSION:2.0
METHOD:PUBLISH
BEGIN:VEVENT
DTSTART:20231028T112000Z
DTEND:20231028T152000Z
LOCATION:Gächlingen\, \,
TRANSP:OPAQUE
SEQUENCE:0
UID:154189-veranstaltung@ref-sh.ch
DTSTAMP:20230814T061132Z
DESCRIPTION:Diese Mal werden wir einen tollen Nachmittag im
  Pfarrhausgarten in Gächlingen verbringen\, in welchem sich alles um die
  Speisung der 5000 drehen wird.\nAlso zieh dich warm an und komm zum
  Treffpunkt.\n\nMitnehmen:\n-Wetterentsprechende Kleidung\n-gefüllte
  Trinkflasche\n-Gute Laune\n\nStart:\nLöhningen: 13.30 Brunnen
  Bushaltestelle Dorf\nGächlingen: 13.45 Pfarrhaus Gächlingen
 \nOberhallau/Guntmadingen: Nach Absprache\n\nEnde:\nGächlingen: 17.05
  Bushaltestelle Dorf\, Richtung Siblingen\nLöhningen: 17.20 Brunnen
  Bushaltestelle Dorf\nOberhallau/Guntmadingen: Nach Absprache\n\nKontakt:
  Anja Ryser\n\nWeitere Infos: https://www.ref-sh.ch/veranstaltung/154189
SUMMARY:Ameisli in Gächlingen
PRIORITY:5
X-MICROSOFT-CDO-IMPORTANCE:1
CLASS:PUBLIC
END:VEVENT
END:VCALENDAR
