BEGIN:VCALENDAR
PRODID:-//kirchenweb.ch gmbh//veranstaltungsausgabe v2.0//DE
VERSION:2.0
METHOD:PUBLISH
BEGIN:VEVENT
DTSTART:20231209T122000Z
DTEND:20231209T153500Z
LOCATION:Löhningen\, \,
TRANSP:OPAQUE
SEQUENCE:0
UID:154188-veranstaltung@ref-sh.ch
DTSTAMP:20240117T222857Z
DESCRIPTION:Am Samstag\, 9. Dezember 2023 ist wieder Ameisli! Wir werden
  einen spannenden Nachmittag drinnen verbringen und Geheimschriften
  lernen. Ausserdem werden wir die Geschichte von Daniel weiterhören. Der
  hat nämlich auch mit Geheimschriften zu tun. Also pack deine Sachen und
  komm!\n\n\nMitnehmen:\n-Wetterentsprechende Kleidung\n-gefüllte
  Trinkflasche\n-Gute Laune\n\nStart:\nGächlingen: 13.00 Buhaltestelle
  Dorf\, Richtung Siblingen\nLöhningen: 13.20 Brunnen Bushaltestelle Dorf
 \nOberhallau/Guntmadingen: Nach Absprache\n\nEnde:\nGächlingen: 16.48
  Bushaltestelle Dorf\, Richtung Neunkirch\nLöhningen: 16.35 Brunnen
  Bushaltestelle Dorf\nOberhallau/Guntmadingen: Nach Absprache\n\nKontakt:
  Anja Ryser\n\n\nWeitere Infos: https://www.ref-sh.ch/veranstaltung/154188
SUMMARY:Ameisli in Löhningen
PRIORITY:5
X-MICROSOFT-CDO-IMPORTANCE:1
CLASS:PUBLIC
END:VEVENT
END:VCALENDAR
