BEGIN:VCALENDAR
PRODID:-//kirchenweb.ch gmbh//veranstaltungsausgabe v2.0//DE
VERSION:2.0
METHOD:PUBLISH
BEGIN:VEVENT
DTSTART:20240901T074500Z
DTEND:20240901T090000Z
LOCATION:Ref. Kirche Beringen\, Postberg 21\, 8222 Beringen
TRANSP:OPAQUE
SEQUENCE:0
UID:154118-veranstaltung@ref-sh.ch
DTSTAMP:20240828T160002Z
DESCRIPTION:Anschliessend Apéro in der Kirche\n\nGemeinsamer Gottesdienst
  der Kirchgemeinden Beringen\, Löhningen–Guntmadingen\, Gächlingen und
  Oberhallau zusammen mit der Jungen Kirche Klettgau\, dem gemeinsamen
  Jugendbereich der vier Kirchgemeinden.\n\nDie Pfarrpersonen der
  Kirchgemeinden wirken mit:  Jutta Schenk\, Daniela Scherello\,\n Lukas
  Huber\,  Werner Näf\n\nKontakt: Pfarrteam\, Junge Kirche\n\nWeitere
  Infos: https://www.ref-sh.ch/veranstaltung/154118
SUMMARY:Vier-Gemeinde-Gottesdienst mit der Jungen Kirche Klettgau
PRIORITY:5
X-MICROSOFT-CDO-IMPORTANCE:1
CLASS:PUBLIC
END:VEVENT
END:VCALENDAR
