BEGIN:VCALENDAR
PRODID:-//kirchenweb.ch gmbh//veranstaltungsausgabe v2.0//DE
VERSION:2.0
METHOD:PUBLISH
BEGIN:VEVENT
DTSTART:20240306T130000Z
DTEND:20240306T153000Z
LOCATION:HofAckerZentrum\, Alpenstrasse 176\, 8203 Schaffhausen
TRANSP:OPAQUE
SEQUENCE:0
UID:154100-veranstaltung@ref-sh.ch
DTSTAMP:20240228T163003Z
DESCRIPTION:Wir laden Dich und Deine Begleitung ganz herzlich zum
  Osterbasteln ein. Ausserdem erwartet Dich eine spannende Geschichte und
  ein feiner Zvieri!\n\nKleine Kinder bis 8 Jahre bitte mit Begleitperson\n
 \nPro Familie erheben wir einen Unkostenbeitrag von Fr. 15.--\n\nBitte
  anmelden bis 04. März 2024 bei:\nstephanie.lemke-signer\, Tel. 077 511
  30 62\noder stephanie.lemke-signer@ref-sh.ch\n\nWir freuen uns auf Dich!
 \nstephanie.lemke-signer und Adriana Di Cesare\n\nKontakt:
  stephanie.lemke-signer\n\nWeitere Infos:
  https://www.ref-sh.ch/veranstaltung/154100
SUMMARY:Bastelnachmittag gesamtstädtisch
PRIORITY:5
X-MICROSOFT-CDO-IMPORTANCE:1
CLASS:PUBLIC
END:VEVENT
END:VCALENDAR
