BEGIN:VCALENDAR
PRODID:-//kirchenweb.ch gmbh//veranstaltungsausgabe v2.0//DE
VERSION:2.0
METHOD:PUBLISH
BEGIN:VEVENT
DTSTART:20240330T200000Z
DTEND:20240330T210000Z
LOCATION:Kirche\, \,  Buchberg-Rüdlingen
TRANSP:OPAQUE
SEQUENCE:0
UID:153843-veranstaltung@ref-sh.ch
DTSTAMP:20240330T075606Z
DESCRIPTION:Osternachtfeier mit Beginn am Osterfeuer auf dem Friedhof\n
 \nKontakt: Barbara Erdmann\, Beat Frefel\n\nWeitere Infos:
  https://www.ref-sh.ch/veranstaltung/153843
SUMMARY:Osternacht
PRIORITY:5
X-MICROSOFT-CDO-IMPORTANCE:1
CLASS:PUBLIC
END:VEVENT
END:VCALENDAR
