BEGIN:VCALENDAR
PRODID:-//kirchenweb.ch gmbh//veranstaltungsausgabe v2.0//DE
VERSION:2.0
METHOD:PUBLISH
BEGIN:VEVENT
DTSTART:20241231T160000Z
DTEND:20241231T170000Z
LOCATION:Kirche\, \,  Buchberg-Rüdlingen
TRANSP:OPAQUE
SEQUENCE:0
UID:153842-veranstaltung@ref-sh.ch
DTSTAMP:20250104T113006Z
DESCRIPTION:Wir lassen zusammen mit dem Gemischten Chor Rheinklang das
  Alte Jahr ausklingen und wenden uns dem Neuen Jahr zu. «Prüfet alles
  und behaltet das Gute» heisst die Jahreslosung 2025\, ein Satz nicht nur
  für Konsument:innen; ihn machen wir an diesem Gottesdienst zum Thema. \n
 \nDanach stossen wir auf das Neue Jahr an.\n\nKontakt: Beat Frefel\n
 \nWeitere Infos: https://www.ref-sh.ch/veranstaltung/153842
SUMMARY:Silvestergottesdienst
PRIORITY:5
X-MICROSOFT-CDO-IMPORTANCE:1
CLASS:PUBLIC
END:VEVENT
END:VCALENDAR
