BEGIN:VCALENDAR
PRODID:-//kirchenweb.ch gmbh//veranstaltungsausgabe v2.0//DE
VERSION:2.0
METHOD:PUBLISH
BEGIN:VEVENT
DTSTART:20241225T084500Z
DTEND:20241225T094500Z
LOCATION:Kirche\, \,  Buchberg-Rüdlingen
TRANSP:OPAQUE
SEQUENCE:0
UID:153840-veranstaltung@ref-sh.ch
DTSTAMP:20241221T082142Z
DESCRIPTION:«Gott wurde Mensch» sagen wir jeweils in der Christnacht und
  am Weihnachtsmorgen. Das ist einzigartig und will jedes Jahr bedacht
  werden. \n\nWir tun das mit feierlicher Musik\, dem
  Weihnachtsevangelium\, biblischen Gedankenanstössen und schönen
  Weihnachtsliedern.\n\nKontakt: Barbara Erdmann\n\nWeitere Infos:
  https://www.ref-sh.ch/veranstaltung/153840
SUMMARY:Weihnachtsgottesdienst mit Abendmahl
PRIORITY:5
X-MICROSOFT-CDO-IMPORTANCE:1
CLASS:PUBLIC
END:VEVENT
END:VCALENDAR
