BEGIN:VCALENDAR
PRODID:-//kirchenweb.ch gmbh//veranstaltungsausgabe v2.0//DE
VERSION:2.0
METHOD:PUBLISH
BEGIN:VEVENT
DTSTART:20241201T084500Z
DTEND:20241201T094500Z
LOCATION:Kirche\, \,  Buchberg-Rüdlingen
TRANSP:OPAQUE
SEQUENCE:0
UID:153835-veranstaltung@ref-sh.ch
DTSTAMP:20241117T130931Z
DESCRIPTION:In diesem Gottesdienst stehen wieder die Päckli für die
  Ostmission im Zentrum. Wir freuen uns über jedes\, das Sie selber
  gemacht oder gespendet haben. Der Rainbowchor singt und die
  Konfirmandinnen und Konfirmanden gestalten den Gottesdienst zum Thema
  "Glaube\, Liebe\, Hoffnung".\n\nNach dem Gottesdienst wird es heiss\,
  zumindest auf dem Teller: Es gibt Raclette\, davor Kürbissuppe\, danach
  Kaffee und Kuchen. Wieder können Kerzen und Glismets erstanden werden.
  Der ganze Erlös geht an die Aktion Weihnachtspäckli.\n\nEin
  Familiengottesdienst für alle.\nNach dem Gottesdienst gibt es Raclette!
  Nicht verpassen!\n\nKontakt: Barbara Erdmann\, Beat Frefel\n\nWeitere
  Infos: https://www.ref-sh.ch/veranstaltung/153835
SUMMARY:Päcklisunntig
PRIORITY:5
X-MICROSOFT-CDO-IMPORTANCE:1
CLASS:PUBLIC
END:VEVENT
END:VCALENDAR
