BEGIN:VCALENDAR
PRODID:-//kirchenweb.ch gmbh//veranstaltungsausgabe v2.0//DE
VERSION:2.0
METHOD:PUBLISH
BEGIN:VEVENT
DTSTART:20241110T160000Z
DTEND:20241110T170000Z
LOCATION:Kirche\, \,  Buchberg-Rüdlingen
TRANSP:OPAQUE
SEQUENCE:0
UID:153832-veranstaltung@ref-sh.ch
DTSTAMP:20241114T071810Z
DESCRIPTION:"Juhuii\, endlich Ferien. Anna freut sich. In den Ferien ist
  es bei der Grossmutter am Schönsten. Sie weiss so viele Geschichten zu
  erzählen. Die aufregendsten Spiele denkt sie sich aus und auf dem
  Fensterbrett liegt für Anna jedes Mal ein neues Malbuch bereit."\n\nSo
  beginnt das Theaterstück\, das die Top Step Kinder für uns spielen
  werden. Wir freuen uns auf das "Rote Paket"!\n\nKontakt: Barbara Erdmann
 \n\nWeitere Infos: https://www.ref-sh.ch/veranstaltung/153832
SUMMARY:Top Step Gottesdienst
PRIORITY:5
X-MICROSOFT-CDO-IMPORTANCE:1
CLASS:PUBLIC
END:VEVENT
END:VCALENDAR
