BEGIN:VCALENDAR
PRODID:-//kirchenweb.ch gmbh//veranstaltungsausgabe v2.0//DE
VERSION:2.0
METHOD:PUBLISH
BEGIN:VEVENT
DTSTART:20240908T080000Z
DTEND:20240908T090000Z
LOCATION:Bei der Gattersagi (bei schlechtem Wetter im Foyer der
  Mehrzweckhalle)\, Hohlegasse 10\, 8454 Buchberg
TRANSP:OPAQUE
SEQUENCE:0
UID:153823-veranstaltung@ref-sh.ch
DTSTAMP:20250217T151339Z
DESCRIPTION:Wer es nicht weiss\, muss es wissen und wer es schon gewusst
  hat\, hört es immer wieder gerne: Es gibt viele Reben in Buchberg und
  Rüdlingen und davon manchen guten Tropfen zum Trinken.\n\nBuchberg macht
  daraus die Wii-Wanderig. Am 7. und 8. September können an neun Ständen
  die Weine verkostet werden. Die Wanderung führt über 5.5 km an allen
  Ständen vorbei. Ein Shuttle-Bus bringt die Besucherinnen und Besucher\,
  die nicht so gut zu Fuss sind\, von Stand zu Stand und wiederum zurück
  ins Dorf.\n\nAm Sonntagmorgen feiern wir unseren Gottesdienst an diesem
  Fest unter freiem Himmel bei der Gattersagi. Bei schlechtem Wetter
  zügeln wir ins Foyer der Mehrzweckhalle. Thematisch geht es um den
  Genuss. Herzliche Einladung!\n\nKontakt: Beat Frefel\n\nWeitere Infos:
  https://www.ref-sh.ch/veranstaltung/153823
SUMMARY:Wii-Wanderigsgottesdienst
PRIORITY:5
X-MICROSOFT-CDO-IMPORTANCE:1
CLASS:PUBLIC
END:VEVENT
END:VCALENDAR
