BEGIN:VCALENDAR
PRODID:-//kirchenweb.ch gmbh//veranstaltungsausgabe v2.0//DE
VERSION:2.0
METHOD:PUBLISH
BEGIN:VEVENT
DTSTART:20240811T090000Z
DTEND:20240811T100000Z
LOCATION:Kirche\, \,  Buchberg-Rüdlingen
TRANSP:OPAQUE
SEQUENCE:0
UID:153819-veranstaltung@ref-sh.ch
DTSTAMP:20260114T113249Z
DESCRIPTION:Kann man sich über den Umgang mit Alkohol lustig machen? Wenn
  man Lukas Fehr kennt\, ist die Antwort klar: man kann. Er beobachtet
  alles und jeden sehr genau und bringt seine Beobachtungen präzise und
  sehr eloquent auf den Punkt beziehungsweise auf die Bühne. \n\nWir laden
  ihn in unseren Zmittaggottesdienst ein. Nicht nur um ihn live zu
  erleben\, sondern um mit ihm ins Gespräch zu kommen\, wie er Menschen
  zum Lachen bringt\, was ihn dazu antreibt und welches Getränk er nicht
  gern hat.\n\nNach dem Gottesdienst steht der Grill bereit. Wer bleiben
  will und Hunger hat\, kann seine Wurst\, sein Steak und seinen Bratkäse
  darauflegen und gemütlich vor der Kirche mit anderen in den
  Sonntagnachmittag starten.\n\nKontakt: Barbara Erdmann\n\nWeitere Infos:
  https://www.ref-sh.ch/veranstaltung/153819
SUMMARY:Zmittaggottesdienst
PRIORITY:5
X-MICROSOFT-CDO-IMPORTANCE:1
CLASS:PUBLIC
END:VEVENT
END:VCALENDAR
