BEGIN:VCALENDAR
PRODID:-//kirchenweb.ch gmbh//veranstaltungsausgabe v2.0//DE
VERSION:2.0
METHOD:PUBLISH
BEGIN:VEVENT
DTSTART:20240602T090000Z
DTEND:20240602T100000Z
LOCATION:Kirche\, \,  Buchberg-Rüdlingen
TRANSP:OPAQUE
SEQUENCE:0
UID:153810-veranstaltung@ref-sh.ch
DTSTAMP:20240531T100546Z
DESCRIPTION:Der Gottesdienst und das Fischessen findet wegen schlechten
  Wetters nicht am Rhein\, sondern in der Kirche statt. Bitte allen
  weitersagen!\n\nMit Taufe von Nino Keller\n\nEs kann nicht alles
  gelingen. Das Wetter so zu machen\, dass es unseren Wünschen
  entspricht\, ist dafür ein Beispiel. So wird der Gottesdienst nicht am
  Rhein\, sondern in der Kirche stattfinden. Der Fischereiverein Rüdlingen
  brät seine Zanderknusperli bei der Kirche und wir können drinnen in der
  Kirche gemütlich Platz nehmen. \n\nHerzliche Einladung!\n\nKontakt: Beat
  Frefel\n\nWeitere Infos: https://www.ref-sh.ch/veranstaltung/153810
SUMMARY:Gottesdienst mit Taufe
PRIORITY:5
X-MICROSOFT-CDO-IMPORTANCE:1
CLASS:PUBLIC
END:VEVENT
END:VCALENDAR
