BEGIN:VCALENDAR
PRODID:-//kirchenweb.ch gmbh//veranstaltungsausgabe v2.0//DE
VERSION:2.0
METHOD:PUBLISH
BEGIN:VEVENT
DTSTART:20240324T084500Z
DTEND:20240324T094500Z
LOCATION:Kirche\, \,  Buchberg-Rüdlingen
TRANSP:OPAQUE
SEQUENCE:0
UID:153797-veranstaltung@ref-sh.ch
DTSTAMP:20240305T092426Z
DESCRIPTION:Am Palmsonntag feiern wir die Konfirmation von vier jungen
  Frauen und Männern. Wir wünschen ihnen ein schönes Fest\, Gottes Segen
  und freuen uns auf einen spannenden Gottesdienst\, zu dem alle\, nicht
  nur die Familien\, eingeladen sind. Herzlich willkommen!\n\nKontakt: Beat
  Frefel\n\nWeitere Infos: https://www.ref-sh.ch/veranstaltung/153797
SUMMARY:Konfirmationsgottesdienst
PRIORITY:5
X-MICROSOFT-CDO-IMPORTANCE:1
CLASS:PUBLIC
END:VEVENT
END:VCALENDAR
