BEGIN:VCALENDAR
PRODID:-//kirchenweb.ch gmbh//veranstaltungsausgabe v2.0//DE
VERSION:2.0
METHOD:PUBLISH
BEGIN:VEVENT
DTSTART:20241226T160000Z
DTEND:20241226T170000Z
LOCATION:Kirche\, \,  Buchberg-Rüdlingen
TRANSP:OPAQUE
SEQUENCE:0
UID:153725-veranstaltung@ref-sh.ch
DTSTAMP:20241220T072613Z
DESCRIPTION:...mit Musik aus der Romantik\n\nYumi Golay\, Sopran
 \nElisabeth Boeglin\, Harfe\n\nEintritt frei\, Kollekte\n\nKontakt:
  barbara.erdmann@ref-sh.ch\n\nWeitere Infos:
  https://www.ref-sh.ch/veranstaltung/153725
SUMMARY:Weihnachtskonzert 2024
PRIORITY:5
X-MICROSOFT-CDO-IMPORTANCE:1
CLASS:PUBLIC
END:VEVENT
END:VCALENDAR
