BEGIN:VCALENDAR
PRODID:-//kirchenweb.ch gmbh//veranstaltungsausgabe v2.0//DE
VERSION:2.0
METHOD:PUBLISH
BEGIN:VEVENT
DTSTART:20240110T110000Z
DTEND:20240110T130000Z
LOCATION:Ochseschüür\, Pfrundhausgasse 3\, 8200 Schaffhausen
TRANSP:OPAQUE
SEQUENCE:0
UID:153641-veranstaltung@ref-sh.ch
DTSTAMP:20240103T163002Z
DESCRIPTION:Wo die Liebe den Tisch deckt\, \nschmeckt das Essen am
  besten.		\nFranz. Sprichwort\n\nMenu		15.00 Franken pro Person. Kinder in
  Begleitung Erwachsener essen gratis\n\nWir freuen uns auf Sie!\n\n\n\n
 \nKontakt: Barbara Rohrer Sozialdiakonie\n\nWeitere Infos:
  https://www.ref-sh.ch/veranstaltung/153641
SUMMARY:Mittagstisch für alle
PRIORITY:5
X-MICROSOFT-CDO-IMPORTANCE:1
CLASS:PUBLIC
END:VEVENT
END:VCALENDAR
