BEGIN:VCALENDAR
PRODID:-//kirchenweb.ch gmbh//veranstaltungsausgabe v2.0//DE
VERSION:2.0
METHOD:PUBLISH
BEGIN:VEVENT
DTSTART:20231126T083000Z
DTEND:20231126T104500Z
LOCATION:Turnhalle\, Schulgasse 17\, 8214 Gächlingen
TRANSP:OPAQUE
SEQUENCE:0
UID:153629-veranstaltung@ref-sh.ch
DTSTAMP:20230729T184707Z
DESCRIPTION:Kontakt: Monika Wieser\n\nWeitere Infos:
  https://www.ref-sh.ch/veranstaltung/153629
SUMMARY:Keine Sonntagschule & Spielzeit (Bazar)
PRIORITY:5
X-MICROSOFT-CDO-IMPORTANCE:1
CLASS:PUBLIC
END:VEVENT
END:VCALENDAR
