BEGIN:VCALENDAR
PRODID:-//kirchenweb.ch gmbh//veranstaltungsausgabe v2.0//DE
VERSION:2.0
METHOD:PUBLISH
BEGIN:VEVENT
DTSTART:20240114T083000Z
DTEND:20240114T104500Z
LOCATION:Kindergarten Spielgruppenraum\, Gemeindehausplatz 5\, 8214
  Gächlingen
TRANSP:OPAQUE
SEQUENCE:0
UID:153623-veranstaltung@ref-sh.ch
DTSTAMP:20240107T153600Z
DESCRIPTION:Kontakt: Monika Wieser\n\nWeitere Infos:
  https://www.ref-sh.ch/veranstaltung/153623
SUMMARY:keine Sonntagschule & Spielzeit
PRIORITY:5
X-MICROSOFT-CDO-IMPORTANCE:1
CLASS:PUBLIC
END:VEVENT
END:VCALENDAR
