BEGIN:VCALENDAR
PRODID:-//kirchenweb.ch gmbh//veranstaltungsausgabe v2.0//DE
VERSION:2.0
METHOD:PUBLISH
BEGIN:VEVENT
DTSTART:20231210T083000Z
DTEND:20231210T104500Z
LOCATION:Kindergarten Spielgruppenraum\, Gemeindehausplatz 5\, 8214
  Gächlingen
TRANSP:OPAQUE
SEQUENCE:0
UID:153621-veranstaltung@ref-sh.ch
DTSTAMP:20230729T183754Z
DESCRIPTION:Kontakt: Monika Wieser\n\nWeitere Infos:
  https://www.ref-sh.ch/veranstaltung/153621
SUMMARY:Sonntagschule & Spielzeit
PRIORITY:5
X-MICROSOFT-CDO-IMPORTANCE:1
CLASS:PUBLIC
END:VEVENT
END:VCALENDAR
