BEGIN:VCALENDAR
PRODID:-//kirchenweb.ch gmbh//veranstaltungsausgabe v2.0//DE
VERSION:2.0
METHOD:PUBLISH
BEGIN:VEVENT
DTSTART:20230902T174500Z
DTEND:20230902T193000Z
LOCATION:Heilsarmee\, Schaffhausen\, Tannerberg 1\, 8200 Schaffhausen
TRANSP:OPAQUE
SEQUENCE:0
UID:153226-veranstaltung@ref-sh.ch
DTSTAMP:20230707T132125Z
DESCRIPTION:19.00 Türöffnung\n19.45 Gottesdienst\nanschliessend Snacks
  und Getränke\n\nDie PowerNight ist ein überregionaler Gottesdienst\,
  bei dem sich vor allem junge Menschen treffen. Trägergemeinden sind
  verschiedene Kirchen aus dem Kanton Schaffhausen\, unter anderem die
  reformierten Kirchgemeinden Löhningen-Guntmadingen und Gächlingen.\n\n
 \nKontakt: marianne.naef@ref-sh.ch\n\nWeitere Infos:
  https://www.ref-sh.ch/veranstaltung/153226
SUMMARY:PowerNight Schaffhausen
PRIORITY:5
X-MICROSOFT-CDO-IMPORTANCE:1
CLASS:PUBLIC
END:VEVENT
END:VCALENDAR
