BEGIN:VCALENDAR
PRODID:-//kirchenweb.ch gmbh//veranstaltungsausgabe v2.0//DE
VERSION:2.0
METHOD:PUBLISH
BEGIN:VEVENT
DTSTART:20240915T080000Z
DTEND:20240915T090000Z
LOCATION:Bergkirche Neunkirch\, Oberwiesstr. 20\, 8213 Neunkirch
TRANSP:OPAQUE
SEQUENCE:0
UID:152794-veranstaltung@ref-sh.ch
DTSTAMP:20240919T183721Z
DESCRIPTION:Bitte Erntespenden am Freitagabend oder spätestens bis
  Samstagmorgen um 9 in die Bergkirche bringen.\nFrüchte und Gemüse
  können im Anschluss an den Gottesdienst zu Gunsten der Schaffhauser
  Bettagsaktiion erstanden werden.\n\nDie Alphornbläser "Echo vom Randen"
  haben leider wegen Krankheitsausfall kurzfristig abgesagt.\n\nKontakt:
  Pfrn. Eva Baumgardt\n\nWeitere Infos:
  https://www.ref-sh.ch/veranstaltung/152794
SUMMARY:Gottesdienst zum Erntedank\, Buss und Bettag\, mit Taufe\,
  Abendmahl und Gabenverkauf
PRIORITY:5
X-MICROSOFT-CDO-IMPORTANCE:1
CLASS:PUBLIC
END:VEVENT
END:VCALENDAR
