BEGIN:VCALENDAR
PRODID:-//kirchenweb.ch gmbh//veranstaltungsausgabe v2.0//DE
VERSION:2.0
METHOD:PUBLISH
BEGIN:VEVENT
DTSTART:20231210T084500Z
DTEND:20231210T100000Z
LOCATION:Mesmerhuus\, Kloster 14\, 8224 Löhningen
TRANSP:OPAQUE
SEQUENCE:0
UID:152752-veranstaltung@ref-sh.ch
DTSTAMP:20231121T222952Z
DESCRIPTION:Kontakt: Sven Weber\n\nWeitere Infos:
  https://www.ref-sh.ch/veranstaltung/152752
SUMMARY:Fiire mit de Grosse
PRIORITY:5
X-MICROSOFT-CDO-IMPORTANCE:1
CLASS:PUBLIC
END:VEVENT
END:VCALENDAR
