BEGIN:VCALENDAR
PRODID:-//kirchenweb.ch gmbh//veranstaltungsausgabe v2.0//DE
VERSION:2.0
METHOD:PUBLISH
BEGIN:VEVENT
DTSTART:20240623T083500Z
DTEND:20240623T093500Z
LOCATION:Grillplatz «Im Tal» Guntmadingen\, Liberackerweg\, 8223
  Guntmadingen
TRANSP:OPAQUE
SEQUENCE:0
UID:152658-veranstaltung@ref-sh.ch
DTSTAMP:20240816T072655Z
DESCRIPTION:Der Familiengottesdienst findet draussen statt – das Gras
  wird nass sein\, bitte angemessene Schuhe anziehen.\n
 \nTauf-Familiengottesdienst mit den Kindern des 3.-Klass-Unterrichts sowie
  mit dem Familiengottesdienst-Team auf dem
  https://map.search.ch/683870\,281820.\n\nSinja Gamper (Löhningen) und
  Finja Schwaninger (Guntmadingen) werden getauft.\n\nBei Regenwetter
  findet der Gottesdienst in der
  https://map.search.ch/Löhningen\,Kloster-14@683630\,283758 statt.\n\nAm
  Sonntag morgen gibt Telefonnummer 052 685 39 21 ab 8 Uhr Auskunft.\n
 \nAnschliessend Aperitif und Gelegenheit zu grillieren (Essen und Trinken
  selber mitbringen).\n\nDa der Gottesdienst auf einer nicht frisch
  gemähten Wiese mit möglicherweise gut getränktem Untergrund
  stattfindet\, seien Kleider und Schuhe für draussen empfohlen. Der Platz
  bietet wenig Schatten – bei blauem Himmel bitte auf Sonnenschutz
  achten.\n\nDer genaue Gottesdienst- und Grillplatz befindet sich
  https://map.search.ch/683870\,281820\n\nKeine Chindehüeti.\n\nKontakt:
  Pfarrer Lukas Huber\n\nWeitere Infos:
  https://www.ref-sh.ch/veranstaltung/152658
SUMMARY:Tauf-Familiengottesdienst
PRIORITY:5
X-MICROSOFT-CDO-IMPORTANCE:1
CLASS:PUBLIC
END:VEVENT
END:VCALENDAR
