BEGIN:VCALENDAR
PRODID:-//kirchenweb.ch gmbh//veranstaltungsausgabe v2.0//DE
VERSION:2.0
METHOD:PUBLISH
BEGIN:VEVENT
DTSTART:20240526T074500Z
DTEND:20240526T084500Z
LOCATION:Kirche\, Kloster\, 8224 Löhningen
TRANSP:OPAQUE
SEQUENCE:0
UID:152654-veranstaltung@ref-sh.ch
DTSTAMP:20240815T083837Z
DESCRIPTION:Gottesdienst mit dem Ziitfenschter-Team. Anschliessend
  Kirchgemeinde-Versammlung.\n\nKontakt: Lukas Huber\n\nWeitere Infos:
  https://www.ref-sh.ch/veranstaltung/152654
SUMMARY:Ziitfenschter-Gottesdienst
PRIORITY:5
X-MICROSOFT-CDO-IMPORTANCE:1
CLASS:PUBLIC
END:VEVENT
END:VCALENDAR
