BEGIN:VCALENDAR
PRODID:-//kirchenweb.ch gmbh//veranstaltungsausgabe v2.0//DE
VERSION:2.0
METHOD:PUBLISH
BEGIN:VEVENT
DTSTART:20240519T074500Z
DTEND:20240519T084500Z
LOCATION:Pfarrgarten Löhningen\, Kloster 3\, 8224 Löhningen
TRANSP:OPAQUE
SEQUENCE:0
UID:152652-veranstaltung@ref-sh.ch
DTSTAMP:20240817T121904Z
DESCRIPTION:Pfingst-Abendmahlsgottesdienst mit Pfarrer Lukas P. Huber.\n
 \nKontakt: Pfr. Lukas Huber\n\nWeitere Infos:
  https://www.ref-sh.ch/veranstaltung/152652
SUMMARY:Abendmahlsgottesdienst zu Pfingsten
PRIORITY:5
X-MICROSOFT-CDO-IMPORTANCE:1
CLASS:PUBLIC
END:VEVENT
END:VCALENDAR
