BEGIN:VCALENDAR
PRODID:-//kirchenweb.ch gmbh//veranstaltungsausgabe v2.0//DE
VERSION:2.0
METHOD:PUBLISH
BEGIN:VEVENT
DTSTART:20240331T074500Z
DTEND:20240331T084500Z
LOCATION:Kirche Löhningen\, Kloster 3\, 8224 Löhningen
TRANSP:OPAQUE
SEQUENCE:0
UID:152647-veranstaltung@ref-sh.ch
DTSTAMP:20240817T120601Z
DESCRIPTION:Tauf- und Abendmahlsgottesdienst zu Ostern\, mit Pfarrer Lukas
  Huber. Mit Osterwitz.\n\nKontakt: Pfarrer Lukas Huber\n\nWeitere Infos:
  https://www.ref-sh.ch/veranstaltung/152647
SUMMARY:Tauf- und Abendmahlsgottesdienst zu Ostern
PRIORITY:5
X-MICROSOFT-CDO-IMPORTANCE:1
CLASS:PUBLIC
END:VEVENT
END:VCALENDAR
