BEGIN:VCALENDAR
PRODID:-//kirchenweb.ch gmbh//veranstaltungsausgabe v2.0//DE
VERSION:2.0
METHOD:PUBLISH
BEGIN:VEVENT
DTSTART:20240331T040000Z
DTEND:20240331T050000Z
LOCATION:Kirche Löhningen\, Kloster 3\, 8224 Löhningen
TRANSP:OPAQUE
SEQUENCE:0
UID:152646-veranstaltung@ref-sh.ch
DTSTAMP:20240815T083709Z
DESCRIPTION:Ostermorgenfeier im Kirchhof und in der Kirche Löhningen\,
  mit dem Ziitfenschter-Team. Treffpunkt bei Dunkelheit bei brennender
  Finnenkerze im Kirchhof\, Ostergeschichte\, Einzug in die Kirche mit der
  neuen Osterkerze\, kurze liturgische Feier in der Kirche.\n
 \nAnschliessend fröhliches Osterzmorge im Mesmerhuus.\n\nKontakt: Pfarrer
  Lukas Huber\n\nWeitere Infos: https://www.ref-sh.ch/veranstaltung/152646
SUMMARY:Ostermorgen-Feier mit dem Ziitfenschter-Team
PRIORITY:5
X-MICROSOFT-CDO-IMPORTANCE:1
CLASS:PUBLIC
END:VEVENT
END:VCALENDAR
