BEGIN:VCALENDAR
PRODID:-//kirchenweb.ch gmbh//veranstaltungsausgabe v2.0//DE
VERSION:2.0
METHOD:PUBLISH
BEGIN:VEVENT
DTSTART:20240317T084500Z
DTEND:20240317T094500Z
LOCATION:Kirche Löhningen\, Kloster 3\, 8224 Löhningen
TRANSP:OPAQUE
SEQUENCE:0
UID:152644-veranstaltung@ref-sh.ch
DTSTAMP:20240816T072353Z
DESCRIPTION:Familiengottesdienst mit Abendmahl\, mit den Kindern des
  3.-Klass-Unterrichts\, mit Katechetin Anita Bischof und Pfarrer Lukas P.
  Huber. Musik: Orgel und Musikgrüppli.\n\nAnschliessend Chilekafi.\n\n\n
 \nKontakt: Pfarrer Lukas Huber\n\nWeitere Infos:
  https://www.ref-sh.ch/veranstaltung/152644
SUMMARY:Abendmahls-Familiengottesdienst mit den Kindern des
  3.-Klass-Unterrichts
PRIORITY:5
X-MICROSOFT-CDO-IMPORTANCE:1
CLASS:PUBLIC
END:VEVENT
END:VCALENDAR
