BEGIN:VCALENDAR
PRODID:-//kirchenweb.ch gmbh//veranstaltungsausgabe v2.0//DE
VERSION:2.0
METHOD:PUBLISH
BEGIN:VEVENT
DTSTART:20240324T084500Z
DTEND:20240324T094500Z
LOCATION:Kirche Löhningen\, Kloster 3\, 8224 Löhningen
TRANSP:OPAQUE
SEQUENCE:0
UID:152643-veranstaltung@ref-sh.ch
DTSTAMP:20240816T072236Z
DESCRIPTION:Gottesdienst zur «Goldenen Konfirmation» des Jahrgangs\, der
  1974 – also vor 50 Jahren – in der Kirchgemeinde
  Löhningen–Guntmadingen konfirmiert wurde.\n\nAnschliessend Aperitif
  vor der Kirche oder im Mesmerhuus.\n\nDie Kirchgemeinde Oberhallau ist
  auch eingeladen in diesen Gottesdienst.\n\nKontakt: Pfarrer Lukas Huber\n
 \nWeitere Infos: https://www.ref-sh.ch/veranstaltung/152643
SUMMARY:Gottesdienst zur «Goldenen Konfirmation»
PRIORITY:5
X-MICROSOFT-CDO-IMPORTANCE:1
CLASS:PUBLIC
END:VEVENT
END:VCALENDAR
