BEGIN:VCALENDAR
PRODID:-//kirchenweb.ch gmbh//veranstaltungsausgabe v2.0//DE
VERSION:2.0
METHOD:PUBLISH
BEGIN:VEVENT
DTSTART:20240303T084500Z
DTEND:20240303T094500Z
LOCATION:Kirche Löhningen\, Kloster 3\, 8224 Löhningen
TRANSP:OPAQUE
SEQUENCE:0
UID:152639-veranstaltung@ref-sh.ch
DTSTAMP:20240303T171017Z
DESCRIPTION:Kurzgottesdienst mit Pfarrer Lukas Huber (ca. 20 Minuten).
  Anschliessend findet im Mesmerhuus-Saal eine Diskussionsrunde über die
  Zukunft des Gottesdienstes in der Kirchgemeinde Löhningen-Guntmadingen
  statt\, s. Bericht https://www.ref-sh.ch/kg/loehningen/bericht/9954\n
 \nChindehüeti und Sonntagsschule dauern von Anfang Kurzgottesdienst bis
  Abschluss Gottedienst-DIskussion.\n\nKontakt: Pfarrer Lukas Huber\n
 \nWeitere Infos: https://www.ref-sh.ch/veranstaltung/152639
SUMMARY:Kurz-Gottesdienst\, anschliessend Diskussionsrunde über den
  Gottesdienst der Zukunft
PRIORITY:5
X-MICROSOFT-CDO-IMPORTANCE:1
CLASS:PUBLIC
END:VEVENT
END:VCALENDAR
