BEGIN:VCALENDAR
PRODID:-//kirchenweb.ch gmbh//veranstaltungsausgabe v2.0//DE
VERSION:2.0
METHOD:PUBLISH
BEGIN:VEVENT
DTSTART:20240128T084500Z
DTEND:20240128T094500Z
LOCATION:Kirche Löhningen\, Kloster 3\, 8224 Löhningen
TRANSP:OPAQUE
SEQUENCE:0
UID:152635-veranstaltung@ref-sh.ch
DTSTAMP:20240129T155451Z
DESCRIPTION:Gottesdienst in der Serie «Was mir der Glaube bedeutet» mit
  Interview-Gast Beatrice Roost und Pfarrer Lukas Huber in der Kirche
  Löhningen.\n\nDie Kirchgemeinde Oberhallau ist zu diesem Gottesdienst
  eingeladen.\n\nDer Gottesdienst wird auch auf https://ref-sh.ch/stream
  übertragen.\n\nKontakt: Pfarrer Lukas Huber\n\nWeitere Infos:
  https://www.ref-sh.ch/veranstaltung/152635
SUMMARY:Gottesdienst mit Livestream
PRIORITY:5
X-MICROSOFT-CDO-IMPORTANCE:1
CLASS:PUBLIC
END:VEVENT
END:VCALENDAR
