BEGIN:VCALENDAR
PRODID:-//kirchenweb.ch gmbh//veranstaltungsausgabe v2.0//DE
VERSION:2.0
METHOD:PUBLISH
BEGIN:VEVENT
DTSTART:20240114T084500Z
DTEND:20240114T094500Z
LOCATION:Evangelische Freikirche Chrischona Beringen\,
  Schleitheimerstrasse 24\, 8222 Beringen
TRANSP:OPAQUE
SEQUENCE:0
UID:152633-veranstaltung@ref-sh.ch
DTSTAMP:20231219T103109Z
DESCRIPTION:Allianz-Gottesdienst in der Evangelischen Freikirche
  Chrischona Beringen zum Beginn der Gebetswochen (diese findet vom
  14.–26. Januar 2022 in der Chrischona Beringen statt). Beteiligt sind
  die Evangelischen Freikirche Chrischona Beringen (Pastorin Milena
  Šelemba)\, die reformierte Kirchgemeinde Beringen (Pfarrerin Jutta
  Schenk) und die reformierte Kirchgemeinde Löhningen-Guntmadingen
  (Pfarrer Lukas Huber)\n\nParallel Chindehüeti und Sonntagsschule.\n\nWer
  physisch nicht dabei sein kann: https://youtube.com/live/akIRkFgMrHk\n
 \nAnschliessend Aperitif und Möglichkeit\, den Gebetsraum zu besichtigen.
  Den Gebetsraum (bzw. die Gebetswohnung) reservieren kann man
  https://chlaeggi2024.gebetonline.ch.\n\n\n\nKontakt: Pfarrer Lukas Huber
 \n\nWeitere Infos: https://www.ref-sh.ch/veranstaltung/152633
SUMMARY:Allianz-Gottesdienst zum Beginn der Gebetswoche
PRIORITY:5
X-MICROSOFT-CDO-IMPORTANCE:1
CLASS:PUBLIC
END:VEVENT
END:VCALENDAR
