BEGIN:VCALENDAR
PRODID:-//kirchenweb.ch gmbh//veranstaltungsausgabe v2.0//DE
VERSION:2.0
METHOD:PUBLISH
BEGIN:VEVENT
DTSTART:20230827T074500Z
DTEND:20230827T084500Z
LOCATION:Mesmerhuus\, Kloster 14\, 8224 Löhningen
TRANSP:OPAQUE
SEQUENCE:0
UID:152347-veranstaltung@ref-sh.ch
DTSTAMP:20230622T153007Z
DESCRIPTION:Während des Gottesdienstes werden Kinder bis ungefähr vier
  Jahren in der Chindehüeti betreut.\n\nKinder ab 1. Kindergarten sind
  herzlich eingeladen in das Kinderprogramm\, das parallel zum Gottesdienst
  stattfindet.\n\nKontakt: Ursula Schöttli\n\nWeitere Infos:
  https://www.ref-sh.ch/veranstaltung/152347
SUMMARY:Chindehüeti
PRIORITY:5
X-MICROSOFT-CDO-IMPORTANCE:1
CLASS:PUBLIC
END:VEVENT
END:VCALENDAR
