BEGIN:VCALENDAR
PRODID:-//kirchenweb.ch gmbh//veranstaltungsausgabe v2.0//DE
VERSION:2.0
METHOD:PUBLISH
BEGIN:VEVENT
DTSTART:20230813T083000Z
DTEND:20230813T093000Z
LOCATION:Mesmerhuus\, Kloster 14\, 8224 Löhningen
TRANSP:OPAQUE
SEQUENCE:0
UID:152345-veranstaltung@ref-sh.ch
DTSTAMP:20230622T153005Z
DESCRIPTION:Während des Familiengottesdienstes werden Kinder bis
  ungefähr vier Jahren in der Chindehüeti betreut. Ältere Kinder sind in
  den Familiengottesdienst eingeladen.\n\nWenn der Familiengottesdienst wie
  geplant im Pfarrgarten stattfinden kann\, können auch ganz kleine Kinder
  dabei sein.\n\nKontakt: Ursula Schöttli\n\nWeitere Infos:
  https://www.ref-sh.ch/veranstaltung/152345
SUMMARY:Chindehüeti
PRIORITY:5
X-MICROSOFT-CDO-IMPORTANCE:1
CLASS:PUBLIC
END:VEVENT
END:VCALENDAR
