BEGIN:VCALENDAR
PRODID:-//kirchenweb.ch gmbh//veranstaltungsausgabe v2.0//DE
VERSION:2.0
METHOD:PUBLISH
BEGIN:VEVENT
DTSTART:20230923T150000Z
DTEND:20230923T210000Z
LOCATION:Mesmerhuus\, Kloster 14\, 8224 Löhningen
TRANSP:OPAQUE
SEQUENCE:0
UID:152322-veranstaltung@ref-sh.ch
DTSTAMP:20230704T181706Z
DESCRIPTION:Jeden Samstag hat der Jugendraum in Löhningen geöffnet. Hier
  kannst du Zeit mit deinen Freunden verbringen\, Games machen\, Musik
  hören und Snacks genießen. \nZudem sind wir offen für jede noch so
  verrückte Projektidee\, bei deren Umsetzung wir euch unterstützen
  können.\nKommt vorbei! Wir freuen uns auf euch.\n\n\nKontakt: Philippe
  Niklaus\n\nWeitere Infos: https://www.ref-sh.ch/veranstaltung/152322
SUMMARY:Check-in Löhningen am Trottenfest
PRIORITY:5
X-MICROSOFT-CDO-IMPORTANCE:1
CLASS:PUBLIC
END:VEVENT
END:VCALENDAR
