BEGIN:VCALENDAR
PRODID:-//kirchenweb.ch gmbh//veranstaltungsausgabe v2.0//DE
VERSION:2.0
METHOD:PUBLISH
BEGIN:VEVENT
DTSTART:20240721T080000Z
DTEND:20240721T090000Z
LOCATION:Vor der Kirche\, Kirchstrasse 8\, 8214 Gächlingen
TRANSP:OPAQUE
SEQUENCE:0
UID:152277-veranstaltung@ref-sh.ch
DTSTAMP:20250616T100519Z
DESCRIPTION:Wir taufen Corina Vögeli und Leonie Rüedi.\nBei passendem
  Wetter findet der Gottesdienst vor der Kirche statt.\nApéro nach dem
  Gottesdienst\n\nKontakt: Marianne Näf-Bräker\n\nWeitere Infos:
  https://www.ref-sh.ch/veranstaltung/152277
SUMMARY:Regio-Gottesdienst
PRIORITY:5
X-MICROSOFT-CDO-IMPORTANCE:1
CLASS:PUBLIC
END:VEVENT
END:VCALENDAR
