BEGIN:VCALENDAR
PRODID:-//kirchenweb.ch gmbh//veranstaltungsausgabe v2.0//DE
VERSION:2.0
METHOD:PUBLISH
BEGIN:VEVENT
DTSTART:20240428T090000Z
DTEND:20240428T100000Z
LOCATION:Kirche\, Kirchstrasse 8\, 8214 Gächlingen
TRANSP:OPAQUE
SEQUENCE:0
UID:152269-veranstaltung@ref-sh.ch
DTSTAMP:20240502T101834Z
DESCRIPTION:Gottesdienst in lockerer Atmosphäre\, mit Band\, Taufe\,
  Input\, offene Phase mit Abendmahl und anderen Angeboten. Getauft wird
  Jana Hablützel.\n\nWas ist die Kafi-Chile?
  https://www.ref-gaechlingen.ch/kafi-chile-gaechlingen\n\nKontakt: Werner
  Näf \n\nWeitere Infos: https://www.ref-sh.ch/veranstaltung/152269
SUMMARY:Kafi-Chile: Gottesdienst
PRIORITY:5
X-MICROSOFT-CDO-IMPORTANCE:1
CLASS:PUBLIC
END:VEVENT
END:VCALENDAR
