BEGIN:VCALENDAR
PRODID:-//kirchenweb.ch gmbh//veranstaltungsausgabe v2.0//DE
VERSION:2.0
METHOD:PUBLISH
BEGIN:VEVENT
DTSTART:20240414T080000Z
DTEND:20240414T090000Z
LOCATION:Kirche\, Kirchstrasse 8\, 8214 Gächlingen
TRANSP:OPAQUE
SEQUENCE:0
UID:152268-veranstaltung@ref-sh.ch
DTSTAMP:20240501T125935Z
DESCRIPTION:Gemeinsamer Beginn mit  Sonntagschule und Jugendgottesdienst
  in der Kirche.\n\nWas ist der Mitenandgottesdienst?
  https://www.ref-gaechlingen.ch/gaechlingen-mitenandgottesdienste\n
 \nKontakt: Team der Kirchgemeinde\n\nWeitere Infos:
  https://www.ref-sh.ch/veranstaltung/152268
SUMMARY:Gottesdienst für Gross und Klein
PRIORITY:5
X-MICROSOFT-CDO-IMPORTANCE:1
CLASS:PUBLIC
END:VEVENT
END:VCALENDAR
