BEGIN:VCALENDAR
PRODID:-//kirchenweb.ch gmbh//veranstaltungsausgabe v2.0//DE
VERSION:2.0
METHOD:PUBLISH
BEGIN:VEVENT
DTSTART:20240121T183000Z
DTEND:20240121T193000Z
LOCATION:Kirche\, Kirchstrasse 8\, 8214 Gächlingen
TRANSP:OPAQUE
SEQUENCE:0
UID:152263-veranstaltung@ref-sh.ch
DTSTAMP:20240704T182424Z
DESCRIPTION:Der Gächlinger Gemeinde-Gottesdienst ist heute in den
  Boxenstopp-Gottesdienst integriert. Der Boxenstopp ist der Gottesdienst
  der http://www.junge-kirche-klettgau.ch/jkk-about. Alt und Jung ist an
  diesem Gottesdienst herzlich willkommen. Aus seinem reichhaltigen Leben
  erzählen wird der 90jährige Willi Surbeck aus Oberhallau.\n\nDer ganze
  Anlass beginnt schon früher mit dem Apéro:\n\n18:00 – Apéro\n18:15
  – Znacht\n19:30 – Gottesdienst\n21:00 – Snacks und open end\n\nWas
  ist der Boxenstopp: http://www.boxenstopp-klettgau.ch\nWas ist die Junge
  Kirche Klettgau: https://www.junge-kirche-klettgau.ch/jkk-about\n
 \nKontakt: Boxenstopp-Team\n\nWeitere Infos:
  https://www.ref-sh.ch/veranstaltung/152263
SUMMARY:Gottesdienst im Boxenstopp
PRIORITY:5
X-MICROSOFT-CDO-IMPORTANCE:1
CLASS:PUBLIC
END:VEVENT
END:VCALENDAR
