BEGIN:VCALENDAR
PRODID:-//kirchenweb.ch gmbh//veranstaltungsausgabe v2.0//DE
VERSION:2.0
METHOD:PUBLISH
BEGIN:VEVENT
DTSTART:20240107T100000Z
DTEND:20240107T110000Z
LOCATION:Kirche\, Kirchstrasse 8\, 8214 Gächlingen
TRANSP:OPAQUE
SEQUENCE:0
UID:152262-veranstaltung@ref-sh.ch
DTSTAMP:20240222T143501Z
DESCRIPTION:Gottesdienst in lockerer Atmosphäre\, mit einem Musikvideo\,
  Input\, offene Phase mit Abendmahl und anderen Angeboten. Wir singen in
  Begleitung eines Musik-Teams. Die Jahreslosung wird Thema sein (vgl.
  Bild) und wir singen das neue Jahreslosungslied.\n\nWas ist die
  Kafi-Chile? https://www.ref-gaechlingen.ch/kafi-chile-gaechlingen\n
 \nKontakt: Pfr. Werner Näf\n\nWeitere Infos:
  https://www.ref-sh.ch/veranstaltung/152262
SUMMARY:Kafi-Chile: Gottesdienst
PRIORITY:5
X-MICROSOFT-CDO-IMPORTANCE:1
CLASS:PUBLIC
END:VEVENT
END:VCALENDAR
